BEGIN:VCALENDAR
VERSION:2.0
PRODID:spatie/icalendar-generator
DESCRIPTION:Events from NØAGX.com
X-WR-CALDESC:Events from NØAGX.com
REFRESH-INTERVAL;VALUE=DURATION:PT1440M
X-PUBLISHED-TTL:PT1440M
BEGIN:VTIMEZONE
TZID:Etc/GMT+6
BEGIN:STANDARD
DTSTART:20200913T183000Z
TZOFFSETFROM:-0600
TZOFFSETTO:-0600
END:STANDARD
END:VTIMEZONE
BEGIN:VTIMEZONE
TZID:UTC
BEGIN:STANDARD
DTSTART:20250729T210032Z
TZOFFSETFROM:+0000
TZOFFSETTO:+0000
END:STANDARD
END:VTIMEZONE
BEGIN:VEVENT
UID:370-1
DTSTAMP:20260425T210032Z
SUMMARY:Mesabi Wireless
LOCATION:Mesiah Lutheran Church   Mt. Iron MN
ORGANIZER;CN=N0AGX:MAILTO:n0agx@yahoo.com
RRULE:FREQ=MONTHLY;BYDAY=2TH;COUNT=0
DTSTART;TZID=Etc/GMT+6:20210610T183000
DTEND;TZID=Etc/GMT+6:20210610T203000
X-ALT-DESC;FMTTYPE=TEXT/HTML:Club Meeting
CATEGORIES:MeWA
URL;VALUE=URI:https://n0agx.com/mc-events/mesabi-wireless/?mc_id=370
END:VEVENT
END:VCALENDAR